BEGIN:VCALENDAR
VERSION:2.0
BEGIN:VEVENT
URL:https://allenbach-hunsrueck.de/vereine/events/viewevent/81-helferkirmes-2019 
DTSTART:20191026T190000
DTEND:20191026T234500
SUMMARY:Helferkirmes 2019
DESCRIPTION:<p>Mit der Helferkirmes möchten wir uns bei allen, die an der Allenbacher Schlosskirmes 2019 in irgendeiner Form geholfen haben, bedanken. <br /></p><p>Wann:	 	<strong>am 26. Oktober 2019 ab 19.00 Uhr</strong>
</p><p>Wo:	 	Gemeindehaus Allenbach 
</p><p>Die entsprechenden Anmeldezettel werden rechtzeitig ausgeteilt.</p>
LOCATION:55758 Allenbach, Hauptstraße 52 (Gemeindehaus)
END:VEVENT
END:VCALENDAR